BEGIN:VCALENDAR
VERSION:2.0
PRODID:-//Colonial Quarter - ECPv6.0.13.1//NONSGML v1.0//EN
CALSCALE:GREGORIAN
METHOD:PUBLISH
X-ORIGINAL-URL:https://colonialquarter.com
X-WR-CALDESC:Events for Colonial Quarter
REFRESH-INTERVAL;VALUE=DURATION:PT1H
X-Robots-Tag:noindex
X-PUBLISHED-TTL:PT1H
BEGIN:VTIMEZONE
TZID:UTC
BEGIN:STANDARD
TZOFFSETFROM:+0000
TZOFFSETTO:+0000
TZNAME:UTC
DTSTART:20250101T000000
END:STANDARD
END:VTIMEZONE
BEGIN:VEVENT
DTSTART;TZID=UTC:20251117T180000
DTEND;TZID=UTC:20251117T220000
DTSTAMP:20260422T190106
CREATED:20251018T001904Z
LAST-MODIFIED:20251117T233254Z
UID:29953-1763402400-1763416800@colonialquarter.com
SUMMARY:Surfer Girl (NIGHT 2) – November 17
DESCRIPTION:Night 2 of Surfer Girl at the Oak!!!\nSURFER GIRL \nSurfer Girl – led by the dynamic Carter Reeves\, former frontman of the acclaimed hip-hop/pop group Aer – continues to evolve and captivate audiences with their distinct blend of indie-pop\, reggae\, surf-rock\, and hip-hop. Hailing from Wayland\, MA\, Carter’s laid-back coastal vibes are ever-present in the band’s sound\, which effortlessly blends sun-soaked melodies with infectious rhythms that evoke the feeling of a carefree summer afternoon. With the release of their highly anticipated new album Sunset in April 2025\, Surfer Girl takes their sound to new heights. The album features collaborations with an exciting lineup of artists\, including Bryce Vine\, Collie Buddz\, Jah Lil\, Emily Brimlow\, and more. From breezy anthems to introspective tracks\, Sunset captures the essence of summer\, love\, and living in the moment. Surfer Girl’s magnetic live performances continue to make waves on major festival stages. In 2025\, they’re bringing their high-energy\, feel-good vibes to Vans Warped Tour in Orlando\, following their memorable appearances at Sea.Hear.Now\, SunFest\, Cali Vibes\, and Reggae Rise Up. Known for his powerful stage presence\, Carter Reeves and the band create a live show that’s both nostalgic and refreshing\, sweeping audiences away with every note. As a seasoned performer\, Carter Reeves and Surfer Girl bring a perfect blend of musical mastery and laid-back beach culture to every stage they grace – making each performance an unforgettable experience. \nTESSELLATED \nWith Jamaican influence on international music inescapable in the current era\, a new wave of exciting artists is emerging from the Caribbean island. One artist leading the charge for this global assault on the music industry is Tessellated\, a multi-talented 24 year old Grammy & Emmy artiste/producer from Kingston who burst onto the scene in 2017 with his bona fide Caribbean hit collaboration – Pine & Ginger. Citing influences from many genres\, a unique blend of styles and sounds shapes the backdrop for Tessellated’s musical endeavour. Through this\, he aims to push forward a fusion of Jamaica’s roots presented alongside other world genres. With this original style\, Tessellated has now carved out a lane of his own already garnering support from music industry heavyweights such as Camila Cabello\, Lily Allen\, Shaggy\, Diplo\, Major Lazer\, Jorja Smith\, Dua Lipa and more. \nTickets & more info HERE!
URL:https://colonialquarter.com/event/surfer-girl-night-2-november-17/
LOCATION:Colonial Oak Music Park\, 21 St George Street\, St Augustine\, FL\, 32084\, United States
CATEGORIES:Ticketed Event
ATTACH;FMTTYPE=image/jpeg:https://colonialquarter.com/wp-content/uploads/2025/10/Nov-17-Surfer-Girl-PpK8IB.tmp_.jpg
END:VEVENT
END:VCALENDAR