BEGIN:VCALENDAR
VERSION:2.0
PRODID:-//Colonial Quarter - ECPv6.0.13.1//NONSGML v1.0//EN
CALSCALE:GREGORIAN
METHOD:PUBLISH
X-WR-CALNAME:Colonial Quarter
X-ORIGINAL-URL:https://colonialquarter.com
X-WR-CALDESC:Events for Colonial Quarter
REFRESH-INTERVAL;VALUE=DURATION:PT1H
X-Robots-Tag:noindex
X-PUBLISHED-TTL:PT1H
BEGIN:VTIMEZONE
TZID:UTC
BEGIN:STANDARD
TZOFFSETFROM:+0000
TZOFFSETTO:+0000
TZNAME:UTC
DTSTART:20250101T000000
END:STANDARD
END:VTIMEZONE
BEGIN:VEVENT
DTSTART;TZID=UTC:20251016T180000
DTEND;TZID=UTC:20251016T220000
DTSTAMP:20260424T042551
CREATED:20250922T035851Z
LAST-MODIFIED:20251016T235859Z
UID:29272-1760637600-1760652000@colonialquarter.com
SUMMARY:Polyrhythmics (Ticketed Show) – October 16
DESCRIPTION:POLYRHYTHMICS “LIFE FROM BELOW” live at the Colonial Oak Music Park on October 16\n\n\n\nGet your tickets and more info here!
URL:https://colonialquarter.com/event/polyrhythmics-ticketed-show-october-16/
LOCATION:Colonial Oak Music Park\, 21 St George Street\, St Augustine\, FL\, 32084\, United States
CATEGORIES:Ticketed Event
ATTACH;FMTTYPE=image/jpeg:https://colonialquarter.com/wp-content/uploads/2025/09/https___cdn.evbuc_.com_images_1070681733_777959903273_1_original-ZSEKQh.tmp_.jpg
END:VEVENT
END:VCALENDAR