BEGIN:VCALENDAR
VERSION:2.0
PRODID:-//Colonial Quarter - ECPv6.0.13.1//NONSGML v1.0//EN
CALSCALE:GREGORIAN
METHOD:PUBLISH
X-WR-CALNAME:Colonial Quarter
X-ORIGINAL-URL:https://colonialquarter.com
X-WR-CALDESC:Events for Colonial Quarter
REFRESH-INTERVAL;VALUE=DURATION:PT1H
X-Robots-Tag:noindex
X-PUBLISHED-TTL:PT1H
BEGIN:VTIMEZONE
TZID:UTC
BEGIN:STANDARD
TZOFFSETFROM:+0000
TZOFFSETTO:+0000
TZNAME:UTC
DTSTART:20250101T000000
END:STANDARD
END:VTIMEZONE
BEGIN:VEVENT
DTSTART;TZID=UTC:20251015T180000
DTEND;TZID=UTC:20251015T220000
DTSTAMP:20260424T042551
CREATED:20250915T001353Z
LAST-MODIFIED:20251015T233925Z
UID:29262-1760551200-1760565600@colonialquarter.com
SUMMARY:Dave Matthews Tribute Band (TICKETED) – October 15
DESCRIPTION:For over 20 years\, the Dave Matthews Tribute Band has been performing sold out shows around the world; playing over 2\,000 concerts in 46 states and 9 countries. Throughout the years\, the band has evolved from a bar hopping cover band into a dedicated and true tribute band with one goal; to recreate the classic Dave Matthews Band sound so many of us know and love. \n  \nTICKETS AND MORE INFO HERE! 
URL:https://colonialquarter.com/event/dave-matthews-tribute-band-ticketed-october-15/
LOCATION:Colonial Oak Music Park\, 21 St George Street\, St Augustine\, FL\, 32084\, United States
CATEGORIES:Ticketed Event
ATTACH;FMTTYPE=image/png:https://colonialquarter.com/wp-content/uploads/2025/09/Screenshot-2025-07-31-at-7.52.33-PM-srBfuB.tmp_.png
END:VEVENT
END:VCALENDAR