BEGIN:VCALENDAR
VERSION:2.0
PRODID:-//Colonial Quarter - ECPv6.0.13.1//NONSGML v1.0//EN
CALSCALE:GREGORIAN
METHOD:PUBLISH
X-WR-CALNAME:Colonial Quarter
X-ORIGINAL-URL:https://colonialquarter.com
X-WR-CALDESC:Events for Colonial Quarter
REFRESH-INTERVAL;VALUE=DURATION:PT1H
X-Robots-Tag:noindex
X-PUBLISHED-TTL:PT1H
BEGIN:VTIMEZONE
TZID:UTC
BEGIN:STANDARD
TZOFFSETFROM:+0000
TZOFFSETTO:+0000
TZNAME:UTC
DTSTART:20240101T000000
END:STANDARD
END:VTIMEZONE
BEGIN:VEVENT
DTSTART;TZID=UTC:20240208T190000
DTEND;TZID=UTC:20240208T220000
DTSTAMP:20260422T120914
CREATED:20240125T183100Z
LAST-MODIFIED:20240208T234605Z
UID:13057-1707418800-1707429600@colonialquarter.com
SUMMARY:Country Night with Rio Grande – February 8
DESCRIPTION:Thursday means one thing at the Oak — Country Night!\nSee you on February 8th with Rio Grande\n\nFREE show\n7-10 PM\nFun for all ages\nFriendly pups welcome\nMultiple bars stocked with craft beers\, St. Augustine Distillery Products\, & more!\nOn site dining from St. Augustine Seafood Company!\n\n\n  \n\nClick here for Instagram!\nClick here for Facebook!
URL:https://colonialquarter.com/event/country-night-with-rio-grande-february-8/
LOCATION:Colonial Oak Music Park\, 21 St George Street\, St Augustine\, FL\, 32084\, United States
CATEGORIES:Country Night
ATTACH;FMTTYPE=image/jpeg:https://colonialquarter.com/wp-content/uploads/2023/04/RIO-GRANDE-scaled-rDikAr.tmp_.jpg
END:VEVENT
END:VCALENDAR