BEGIN:VCALENDAR
VERSION:2.0
PRODID:-//Colonial Quarter - ECPv6.0.13.1//NONSGML v1.0//EN
CALSCALE:GREGORIAN
METHOD:PUBLISH
X-WR-CALNAME:Colonial Quarter
X-ORIGINAL-URL:https://colonialquarter.com
X-WR-CALDESC:Events for Colonial Quarter
REFRESH-INTERVAL;VALUE=DURATION:PT1H
X-Robots-Tag:noindex
X-PUBLISHED-TTL:PT1H
BEGIN:VTIMEZONE
TZID:America/New_York
BEGIN:DAYLIGHT
TZOFFSETFROM:-0500
TZOFFSETTO:-0400
TZNAME:EDT
DTSTART:20210314T070000
END:DAYLIGHT
BEGIN:STANDARD
TZOFFSETFROM:-0400
TZOFFSETTO:-0500
TZNAME:EST
DTSTART:20211107T060000
END:STANDARD
END:VTIMEZONE
BEGIN:VEVENT
DTSTART;TZID=America/New_York:20210829T150000
DTEND;TZID=America/New_York:20210829T150000
DTSTAMP:20260420T125247
CREATED:20210730T001730Z
LAST-MODIFIED:20210805T133107Z
UID:3407-1630249200-1630249200@colonialquarter.com
SUMMARY:Ramona Duo
DESCRIPTION:Ramona is a coming together of hip-hop\, rhythm and blues\, funk\, pop\, rock\, and soul – all in one package.\nRamona is St. Augustine’s musical treasure trove of long lost one-hit-wonders and modern contemporary favorites.
URL:https://colonialquarter.com/event/ramona-duo-2/
ATTACH;FMTTYPE=image/jpeg:https://colonialquarter.com/wp-content/uploads/2021/05/ramona.jpg
END:VEVENT
END:VCALENDAR