BEGIN:VCALENDAR
VERSION:2.0
PRODID:-//Colonial Quarter - ECPv6.0.13.1//NONSGML v1.0//EN
CALSCALE:GREGORIAN
METHOD:PUBLISH
X-ORIGINAL-URL:https://colonialquarter.com
X-WR-CALDESC:Events for Colonial Quarter
REFRESH-INTERVAL;VALUE=DURATION:PT1H
X-Robots-Tag:noindex
X-PUBLISHED-TTL:PT1H
BEGIN:VTIMEZONE
TZID:America/New_York
BEGIN:DAYLIGHT
TZOFFSETFROM:-0500
TZOFFSETTO:-0400
TZNAME:EDT
DTSTART:20210314T070000
END:DAYLIGHT
BEGIN:STANDARD
TZOFFSETFROM:-0400
TZOFFSETTO:-0500
TZNAME:EST
DTSTART:20211107T060000
END:STANDARD
END:VTIMEZONE
BEGIN:VEVENT
DTSTART;TZID=America/New_York:20210715T190000
DTEND;TZID=America/New_York:20210715T190000
DTSTAMP:20260422T103706
CREATED:20210627T221710Z
LAST-MODIFIED:20210715T233224Z
UID:3257-1626375600-1626375600@colonialquarter.com
SUMMARY:Colonial Oak Country Night! feat. Gavin Powell/Davis Loose
DESCRIPTION:Curated by St. Augustine Country/Western aficionado Davis Loose (of ‘Davis Loose & the Loose Cannons’) in collaboration with WQIK – the Colonial Oak is proud to present a hand-selected variety of acts bringing the best to North Florida’s Country Music scene. \nTonight’s featured artists: \n-Jacksonville-born Tallahassee resident Gavin Powell\, known for surprising listeners with a unique laid-back southern style that makes you feel as if you’re in the room with him. \n-St. Augustine’s favorite alt-country stalwarts Davis Loose & The Loose Cannons
URL:https://colonialquarter.com/event/colonial-oak-country-night-2/
ATTACH;FMTTYPE=image/jpeg:https://colonialquarter.com/wp-content/uploads/2021/06/CN2.jpg
END:VEVENT
END:VCALENDAR